BEGIN:VCALENDAR
VERSION:2.0
PRODID:-//Treffs Ulm - ECPv6.2.9//NONSGML v1.0//EN
CALSCALE:GREGORIAN
METHOD:PUBLISH
X-WR-CALNAME:Treffs Ulm
X-ORIGINAL-URL:https://treffs-ulm.de
X-WR-CALDESC:Veranstaltungen für Treffs Ulm
REFRESH-INTERVAL;VALUE=DURATION:PT1H
X-Robots-Tag:noindex
X-PUBLISHED-TTL:PT1H
BEGIN:VTIMEZONE
TZID:Europe/Berlin
BEGIN:DAYLIGHT
TZOFFSETFROM:+0100
TZOFFSETTO:+0200
TZNAME:CEST
DTSTART:20260329T010000
END:DAYLIGHT
BEGIN:STANDARD
TZOFFSETFROM:+0200
TZOFFSETTO:+0100
TZNAME:CET
DTSTART:20261025T010000
END:STANDARD
END:VTIMEZONE
BEGIN:VEVENT
DTSTART;TZID=Europe/Berlin:20260420T210000
DTEND;TZID=Europe/Berlin:20260421T003000
DTSTAMP:20260419T212511
CREATED:20260405T143350Z
LAST-MODIFIED:20260405T143350Z
UID:10004505-1776718800-1776731400@treffs-ulm.de
SUMMARY:Game and Jam
DESCRIPTION:Erlebe die lebendige Musikkultur Ulms bei einer einzigartigen Jam-Session\, bei der sich die besten Musiker der Stadt auf einer Bühne vereinen. Egal ob du Profi\, Hobbymusiker oder einfach Musikliebhaber bist – hier ist jeder willkommen\, um mitzumachen und Teil des kreativen Flows zu werden. Die Atmosphäre ist locker und spontan\, sodass die unterschiedlichsten Musikrichtungen und Stilrichtungen aufeinandertreffen und ein echtes Live-Erlebnis schaffen.Für zusätzlichen Spaß sorgen spannende Spiele\, bei denen du die Chance hast\, kostenfreie Getränke zu gewinnen. Schnapp dir dein Instrument\, bring deine Freunde mit und genieße einen Abend voller Musik\, Unterhaltung und guter Laune!
URL:https://treffs-ulm.de/event/game-and-jam-51/
LOCATION:Sauschdall
CATEGORIES:Sauschdall
ATTACH;FMTTYPE=image/jpeg:https://treffs-ulm.de/wp-content/uploads/2025/02/28223_image_medium_gamejam_4082d89a0a.jpg
ORGANIZER;CN="JKP Donauturm e.V":MAILTO:kontakt@donauturm_eu
END:VEVENT
BEGIN:VEVENT
DTSTART;TZID=Europe/Berlin:20260427T210000
DTEND;TZID=Europe/Berlin:20260428T003000
DTSTAMP:20260419T212511
CREATED:20260319T163829Z
LAST-MODIFIED:20260319T163829Z
UID:10004497-1777323600-1777336200@treffs-ulm.de
SUMMARY:Game and Jam
DESCRIPTION:Erlebe die lebendige Musikkultur Ulms bei einer einzigartigen Jam-Session\, bei der sich die besten Musiker der Stadt auf einer Bühne vereinen. Egal ob du Profi\, Hobbymusiker oder einfach Musikliebhaber bist – hier ist jeder willkommen\, um mitzumachen und Teil des kreativen Flows zu werden. Die Atmosphäre ist locker und spontan\, sodass die unterschiedlichsten Musikrichtungen und Stilrichtungen aufeinandertreffen und ein echtes Live-Erlebnis schaffen.Für zusätzlichen Spaß sorgen spannende Spiele\, bei denen du die Chance hast\, kostenfreie Getränke zu gewinnen. Schnapp dir dein Instrument\, bring deine Freunde mit und genieße einen Abend voller Musik\, Unterhaltung und guter Laune!
URL:https://treffs-ulm.de/event/game-and-jam-45/
LOCATION:Sauschdall
CATEGORIES:Sauschdall
ATTACH;FMTTYPE=image/jpeg:https://treffs-ulm.de/wp-content/uploads/2025/02/28223_image_medium_gamejam_4082d89a0a.jpg
ORGANIZER;CN="JKP Donauturm e.V":MAILTO:kontakt@donauturm_eu
END:VEVENT
BEGIN:VEVENT
DTSTART;TZID=Europe/Berlin:20260501T120000
DTEND;TZID=Europe/Berlin:20260501T130000
DTSTAMP:20260419T212511
CREATED:20260405T143351Z
LAST-MODIFIED:20260405T143351Z
UID:10004506-1777636800-1777640400@treffs-ulm.de
SUMMARY:Jazz-Jam\, Brassmaniacs & Sam Siefert Ensemble Project
DESCRIPTION:Ein Konzert mit 22 Musiker:innen folgt im Anschluss auf unser traditionelles 1. Mai-Programm:🎶FRÜHSHOPPEN 12:00 / Eintritt frei Weißwurst-Vernissage mit JamZum jährlichen Frühschoppen laden wir alle Hobby- und Profimusiker sowie Musikliebhaber zu einer Jam-Session ein. Es gibt klassische und vegane Weisswürste sowie Bilder von Steve de Coco und Illustrationen von Armer Armin\, die während diverser Jam Sessions entstanden sind.🎶KONZERT 17:00 Einlass\, 18:00 Beginn / Eintritt 15 € (ermäßigt 12€)🔶Sam Siefert Ensemble Project // Contemporary Groove JazzDas 11-köpfige Jazzensemble aus Innsbruck lässt mit Einflüssen diverser Genres wie Afrobeat\, Rock oder Hip Hop einen tanzbaren Sound entstehen\, der sich textlich mit soziopolitischen Problemen auseinandersetzt\, Dogmen hinterfragt und die Hoffnung auf eine friedliche und bessere Zukunft wecken soll. Aber: “Emotion und Ekstase stehen im Zentrum der Shows”🔶Brassmaniacs // Funk\, Jazz\, Soul\, Hip-Hop\, PopEbenso 11 Bandmitglieder hat die lokale Kult-Band\, darunter 3 Bläser\, 2 Sänger:innen und 2 Rapper. Mit einem Mix aus Funk\, Jazz\, Hip-Hop\, Soul und Pop begeistern sie das Publikum bei unnachahmlichen Live-Auftritten seid Jahren mit ihren groovigen Rhythmen und einem vielfältigen Repertoire.
URL:https://treffs-ulm.de/event/jazz-jam-brassmaniacs-sam-siefert-ensemble-project/
LOCATION:Sauschdall
CATEGORIES:Sauschdall
ATTACH;FMTTYPE=image/jpeg:https://treffs-ulm.de/wp-content/uploads/2026/04/33193_image_medium_sauschdall_jazzfruhschoppen_2026_insta_1080x1350_WEB_2f619c384f.jpg
ORGANIZER;CN="JKP Donauturm e.V":MAILTO:kontakt@donauturm_eu
END:VEVENT
BEGIN:VEVENT
DTSTART;TZID=Europe/Berlin:20260501T120000
DTEND;TZID=Europe/Berlin:20260501T130000
DTSTAMP:20260419T212511
CREATED:20260405T165846Z
LAST-MODIFIED:20260405T165846Z
UID:10004508-1777636800-1777640400@treffs-ulm.de
SUMMARY:Jazz-Jam\, Brassmaniacs & Sam Siefert Ensemble Project
DESCRIPTION:Ein Konzert mit 22 Musiker:innen folgt im Anschluss auf unser traditionelles 1. Mai-Programm:🎶FRÜHSHOPPEN 12:00 / Eintritt frei Weißwurst-Vernissage mit JamZum jährlichen Frühschoppen laden wir alle Hobby- und Profimusiker sowie Musikliebhaber zu einer Jam-Session ein. Es gibt klassische und vegane Weisswürste sowie Bilder von Steve de Coco\, die während diverser Jam Sessions entstanden sind.🎶KONZERT 17:00 Einlass\, 18:00 Beginn / Eintritt 15 € (ermäßigt 12€)🔶Sam Siefert Ensemble Project // Contemporary Groove JazzDas 11-köpfige Jazzensemble aus Innsbruck lässt mit Einflüssen diverser Genres wie Afrobeat\, Rock oder Hip Hop einen tanzbaren Sound entstehen\, der sich textlich mit soziopolitischen Problemen auseinandersetzt\, Dogmen hinterfragt und die Hoffnung auf eine friedliche und bessere Zukunft wecken soll. Aber: “Emotion und Ekstase stehen im Zentrum der Shows”🔶Brassmaniacs // Funk\, Jazz\, Soul\, Hip-Hop\, PopEbenso 11 Bandmitglieder hat die lokale Kult-Band\, darunter 3 Bläser\, 2 Sänger:innen und 2 Rapper. Mit einem Mix aus Funk\, Jazz\, Hip-Hop\, Soul und Pop begeistern sie das Publikum bei unnachahmlichen Live-Auftritten seid Jahren mit ihren groovigen Rhythmen und einem vielfältigen Repertoire.
URL:https://treffs-ulm.de/event/jazz-jam-brassmaniacs-sam-siefert-ensemble-project-2/
LOCATION:Sauschdall
CATEGORIES:Sauschdall
ATTACH;FMTTYPE=image/jpeg:https://treffs-ulm.de/wp-content/uploads/2026/04/33193_image_medium_sauschdall_jazzfruhschoppen_2026_insta_1080x1350_WEB_2f619c384f.jpg
ORGANIZER;CN="JKP Donauturm e.V":MAILTO:kontakt@donauturm_eu
END:VEVENT
BEGIN:VEVENT
DTSTART;TZID=Europe/Berlin:20260502T230000
DTEND;TZID=Europe/Berlin:20260503T000000
DTSTAMP:20260419T212511
CREATED:20260319T135758Z
LAST-MODIFIED:20260319T135758Z
UID:10004493-1777762800-1777766400@treffs-ulm.de
SUMMARY:BASSMENT
DESCRIPTION:Wir öffnen die Pforten zur astralen Dimension. Tief unter der Oberfläche wartet ein Raum\, in dem die Frequenzen durch Mark und Seele wandern. Eine Nacht zwischen PsyTechno und PsyTrance. Hypnotische Beats. Treibende Basslines. Kosmische Klanglandschaften. Untermalt wird das Ganze von immersiven Live Visuals\, die den Raum in eine pulsierende\, außerirdische Welt verwandeln. Sound und Licht verschmelzen zu einem Erlebnis für alle Sinne. ✨🗓 Samstag\, 02. Mai 2026 📍 Jazzkeller Sauschdall\, Ulm 🕚 Beginn: 23:00 Uhr 🎟 Eintritt: 10€ (ermäßigt 8€)
URL:https://treffs-ulm.de/event/bassment-4/
LOCATION:Sauschdall
CATEGORIES:Sauschdall
ATTACH;FMTTYPE=image/jpeg:https://treffs-ulm.de/wp-content/uploads/2026/03/33175_image_medium_d02e4086_2e9d_4bb0_a9fc_9df0731ac1cf_d2efffb444.jpg
ORGANIZER;CN="JKP Donauturm e.V":MAILTO:kontakt@donauturm_eu
END:VEVENT
BEGIN:VEVENT
DTSTART;TZID=Europe/Berlin:20260504T210000
DTEND;TZID=Europe/Berlin:20260505T003000
DTSTAMP:20260419T212511
CREATED:20260319T163829Z
LAST-MODIFIED:20260319T163829Z
UID:10004498-1777928400-1777941000@treffs-ulm.de
SUMMARY:Game and Jam
DESCRIPTION:Erlebe die lebendige Musikkultur Ulms bei einer einzigartigen Jam-Session\, bei der sich die besten Musiker der Stadt auf einer Bühne vereinen. Egal ob du Profi\, Hobbymusiker oder einfach Musikliebhaber bist – hier ist jeder willkommen\, um mitzumachen und Teil des kreativen Flows zu werden. Die Atmosphäre ist locker und spontan\, sodass die unterschiedlichsten Musikrichtungen und Stilrichtungen aufeinandertreffen und ein echtes Live-Erlebnis schaffen.Für zusätzlichen Spaß sorgen spannende Spiele\, bei denen du die Chance hast\, kostenfreie Getränke zu gewinnen. Schnapp dir dein Instrument\, bring deine Freunde mit und genieße einen Abend voller Musik\, Unterhaltung und guter Laune!
URL:https://treffs-ulm.de/event/game-and-jam-46/
LOCATION:Sauschdall
CATEGORIES:Sauschdall
ATTACH;FMTTYPE=image/jpeg:https://treffs-ulm.de/wp-content/uploads/2025/02/28223_image_medium_gamejam_4082d89a0a.jpg
ORGANIZER;CN="JKP Donauturm e.V":MAILTO:kontakt@donauturm_eu
END:VEVENT
BEGIN:VEVENT
DTSTART;TZID=Europe/Berlin:20260511T210000
DTEND;TZID=Europe/Berlin:20260512T003000
DTSTAMP:20260419T212511
CREATED:20260319T163830Z
LAST-MODIFIED:20260319T163830Z
UID:10004499-1778533200-1778545800@treffs-ulm.de
SUMMARY:Game and Jam
DESCRIPTION:Erlebe die lebendige Musikkultur Ulms bei einer einzigartigen Jam-Session\, bei der sich die besten Musiker der Stadt auf einer Bühne vereinen. Egal ob du Profi\, Hobbymusiker oder einfach Musikliebhaber bist – hier ist jeder willkommen\, um mitzumachen und Teil des kreativen Flows zu werden. Die Atmosphäre ist locker und spontan\, sodass die unterschiedlichsten Musikrichtungen und Stilrichtungen aufeinandertreffen und ein echtes Live-Erlebnis schaffen.Für zusätzlichen Spaß sorgen spannende Spiele\, bei denen du die Chance hast\, kostenfreie Getränke zu gewinnen. Schnapp dir dein Instrument\, bring deine Freunde mit und genieße einen Abend voller Musik\, Unterhaltung und guter Laune!
URL:https://treffs-ulm.de/event/game-and-jam-47/
LOCATION:Sauschdall
CATEGORIES:Sauschdall
ATTACH;FMTTYPE=image/jpeg:https://treffs-ulm.de/wp-content/uploads/2025/02/28223_image_medium_gamejam_4082d89a0a.jpg
ORGANIZER;CN="JKP Donauturm e.V":MAILTO:kontakt@donauturm_eu
END:VEVENT
BEGIN:VEVENT
DTSTART;TZID=Europe/Berlin:20260516T200000
DTEND;TZID=Europe/Berlin:20260516T210000
DTSTAMP:20260419T212511
CREATED:20260405T154929Z
LAST-MODIFIED:20260405T154929Z
UID:10004507-1778961600-1778965200@treffs-ulm.de
SUMMARY:Schippa's TEKK-Trio
DESCRIPTION:Mit Silke Eberhard trifft eine der profiliertesten Saxophonistinnen des deutschen zeitgenössi-schen Jazz auf zwei Urgesteine der Berliner Impro-Szene. Neben allerlei stilistischen Anklängen von Blues über Rock und Funk bis zum freien Spiel der phänomenalen Saxophonistin steht die spontane Interaktion im Vordergrund\, bei der die Akteure sich auch gerne gegenseitig überraschen und dem Publikum einen kontinuierlichen Strom unerwarteten Vergnügens garan-tieren. Walzer\, Tänzchen oder funkige Rhythmen: Schippas Stücke sind griffige kleine Nummern mit viel rhythmischer Energie\, werden oft in zupackendem Unisono dargeboten und gehen dann gerne mal ins Freie oder in den wilden Groove. Silke Eberhardt: Saxofon Jörg Schippa: Gitarre Horst Nonnenmacher: E-Bass Veranstalter: KunstWerk e. V.\, Jazzkeller Sauschdall und dessen Förderverein
URL:https://treffs-ulm.de/event/schippas-tekk-trio/
LOCATION:Sauschdall
CATEGORIES:Sauschdall
ATTACH;FMTTYPE=image/jpeg:https://treffs-ulm.de/wp-content/uploads/2026/04/33195_image_medium_Tekk_Trio_ef3489ba68.jpg
ORGANIZER;CN="JKP Donauturm e.V":MAILTO:kontakt@donauturm_eu
END:VEVENT
BEGIN:VEVENT
DTSTART;TZID=Europe/Berlin:20260518T210000
DTEND;TZID=Europe/Berlin:20260519T003000
DTSTAMP:20260419T212511
CREATED:20260319T163830Z
LAST-MODIFIED:20260319T163830Z
UID:10004500-1779138000-1779150600@treffs-ulm.de
SUMMARY:Game and Jam
DESCRIPTION:Erlebe die lebendige Musikkultur Ulms bei einer einzigartigen Jam-Session\, bei der sich die besten Musiker der Stadt auf einer Bühne vereinen. Egal ob du Profi\, Hobbymusiker oder einfach Musikliebhaber bist – hier ist jeder willkommen\, um mitzumachen und Teil des kreativen Flows zu werden. Die Atmosphäre ist locker und spontan\, sodass die unterschiedlichsten Musikrichtungen und Stilrichtungen aufeinandertreffen und ein echtes Live-Erlebnis schaffen.Für zusätzlichen Spaß sorgen spannende Spiele\, bei denen du die Chance hast\, kostenfreie Getränke zu gewinnen. Schnapp dir dein Instrument\, bring deine Freunde mit und genieße einen Abend voller Musik\, Unterhaltung und guter Laune!
URL:https://treffs-ulm.de/event/game-and-jam-48/
LOCATION:Sauschdall
CATEGORIES:Sauschdall
ATTACH;FMTTYPE=image/jpeg:https://treffs-ulm.de/wp-content/uploads/2025/02/28223_image_medium_gamejam_4082d89a0a.jpg
ORGANIZER;CN="JKP Donauturm e.V":MAILTO:kontakt@donauturm_eu
END:VEVENT
BEGIN:VEVENT
DTSTART;TZID=Europe/Berlin:20260615T210000
DTEND;TZID=Europe/Berlin:20260616T003000
DTSTAMP:20260419T212511
CREATED:20260319T163830Z
LAST-MODIFIED:20260319T163830Z
UID:10004501-1781557200-1781569800@treffs-ulm.de
SUMMARY:Game and Jam
DESCRIPTION:Erlebe die lebendige Musikkultur Ulms bei einer einzigartigen Jam-Session\, bei der sich die besten Musiker der Stadt auf einer Bühne vereinen. Egal ob du Profi\, Hobbymusiker oder einfach Musikliebhaber bist – hier ist jeder willkommen\, um mitzumachen und Teil des kreativen Flows zu werden. Die Atmosphäre ist locker und spontan\, sodass die unterschiedlichsten Musikrichtungen und Stilrichtungen aufeinandertreffen und ein echtes Live-Erlebnis schaffen.Für zusätzlichen Spaß sorgen spannende Spiele\, bei denen du die Chance hast\, kostenfreie Getränke zu gewinnen. Schnapp dir dein Instrument\, bring deine Freunde mit und genieße einen Abend voller Musik\, Unterhaltung und guter Laune!
URL:https://treffs-ulm.de/event/game-and-jam-49/
LOCATION:Sauschdall
CATEGORIES:Sauschdall
ATTACH;FMTTYPE=image/jpeg:https://treffs-ulm.de/wp-content/uploads/2025/02/28223_image_medium_gamejam_4082d89a0a.jpg
ORGANIZER;CN="JKP Donauturm e.V":MAILTO:kontakt@donauturm_eu
END:VEVENT
BEGIN:VEVENT
DTSTART;TZID=Europe/Berlin:20260622T210000
DTEND;TZID=Europe/Berlin:20260623T003000
DTSTAMP:20260419T212511
CREATED:20260319T163831Z
LAST-MODIFIED:20260319T163831Z
UID:10004502-1782162000-1782174600@treffs-ulm.de
SUMMARY:Game and Jam
DESCRIPTION:Erlebe die lebendige Musikkultur Ulms bei einer einzigartigen Jam-Session\, bei der sich die besten Musiker der Stadt auf einer Bühne vereinen. Egal ob du Profi\, Hobbymusiker oder einfach Musikliebhaber bist – hier ist jeder willkommen\, um mitzumachen und Teil des kreativen Flows zu werden. Die Atmosphäre ist locker und spontan\, sodass die unterschiedlichsten Musikrichtungen und Stilrichtungen aufeinandertreffen und ein echtes Live-Erlebnis schaffen.Für zusätzlichen Spaß sorgen spannende Spiele\, bei denen du die Chance hast\, kostenfreie Getränke zu gewinnen. Schnapp dir dein Instrument\, bring deine Freunde mit und genieße einen Abend voller Musik\, Unterhaltung und guter Laune!
URL:https://treffs-ulm.de/event/game-and-jam-50/
LOCATION:Sauschdall
CATEGORIES:Sauschdall
ATTACH;FMTTYPE=image/jpeg:https://treffs-ulm.de/wp-content/uploads/2025/02/28223_image_medium_gamejam_4082d89a0a.jpg
ORGANIZER;CN="JKP Donauturm e.V":MAILTO:kontakt@donauturm_eu
END:VEVENT
BEGIN:VEVENT
DTSTART;TZID=Europe/Berlin:20260629T210000
DTEND;TZID=Europe/Berlin:20260630T003000
DTSTAMP:20260419T212511
CREATED:20260319T163831Z
LAST-MODIFIED:20260319T163831Z
UID:10004503-1782766800-1782779400@treffs-ulm.de
SUMMARY:Die letzte Game and Jam vor der Sommerpause
DESCRIPTION:Erlebe die lebendige Musikkultur Ulms bei einer einzigartigen Jam-Session\, bei der sich die besten Musiker der Stadt auf einer Bühne vereinen. Egal ob du Profi\, Hobbymusiker oder einfach Musikliebhaber bist – hier ist jeder willkommen\, um mitzumachen und Teil des kreativen Flows zu werden. Die Atmosphäre ist locker und spontan\, sodass die unterschiedlichsten Musikrichtungen und Stilrichtungen aufeinandertreffen und ein echtes Live-Erlebnis schaffen.Für zusätzlichen Spaß sorgen spannende Spiele\, bei denen du die Chance hast\, kostenfreie Getränke zu gewinnen. Schnapp dir dein Instrument\, bring deine Freunde mit und genieße einen Abend voller Musik\, Unterhaltung und guter Laune!
URL:https://treffs-ulm.de/event/die-letzte-game-and-jam-vor-der-sommerpause/
LOCATION:Sauschdall
CATEGORIES:Sauschdall
ATTACH;FMTTYPE=image/jpeg:https://treffs-ulm.de/wp-content/uploads/2025/02/28223_image_medium_gamejam_4082d89a0a.jpg
ORGANIZER;CN="JKP Donauturm e.V":MAILTO:kontakt@donauturm_eu
END:VEVENT
END:VCALENDAR